View In:
ArcGIS JavaScript
ArcGIS Online map viewer
Google Earth
ArcMap
View Footprint In:
ArcGIS Online map viewer
Service Description: Global Cyclone Hazard Frequency and Distribution, v1 (1980- 2000) displays frequency of cyclones based on more than 1,600 storm tracks for the period 1 January 1980 through 31 December 2000 for the Atlantic, Pacific, and Indian Oceans. The purpose is to provide a means of assessing the relative distribution and frequency of global cyclone hazard. See more information at http://dx.doi.org/10.7927/H4CZ353K.
Dataset Summary:
Global Cyclone Hazard Frequency and Distribution is a 2.5 minute grid based on more than 1,600 storm tracks for the period 1 January 1980 through 31 December 2000 for the Atlantic, Pacific, and Indian Oceans that were assembled and modeled at UNEP/GRID-Geneva PreView. Windspeeds around storm tracks were modeled using Holland's model (1997) to assess the grid cells likely to have been exposed to high wind levels. Post-modeling, the cells were divided into deciles, 10 classes consisting of approximately equal number of grid cells. The higher the value of the grid cell, the higher the decile ranking and the greater the frequency of the hazard relative to other cells. This data set is the result of collaboration among the Columbia University Center for Hazards and Risk Research (CHRR), International Bank for Reconstruction and Development/The World Bank, United Nations Environment Programme Global Resource Information Database Geneva (UNEP/GRID-Geneva), and Columbia University Center for International Earth Science Information Network (CIESIN).
Recommended Citation:
Center for Hazards and Risk Research - CHRR - Columbia University, Center for International Earth Science Information Network - CIESIN - Columbia University, International Bank for Reconstruction and Development - The World Bank, and United Nations Environment Programme Global Resource Information Database Geneva - UNEP/GRID-Geneva. 2005. Global Cyclone Hazard Frequency and Distribution. Palisades, NY: NASA Socioeconomic Data and Applications Center (SEDAC). http://dx.doi.org/10.7927/H4CZ353K. Accessed DAY MONTH YEAR.
Name: sedac/ndh_cyclone_hazard_frequency_distribution
Description: Global Cyclone Hazard Frequency and Distribution, v1 (1980- 2000) displays frequency of cyclones based on more than 1,600 storm tracks for the period 1 January 1980 through 31 December 2000 for the Atlantic, Pacific, and Indian Oceans. The purpose is to provide a means of assessing the relative distribution and frequency of global cyclone hazard. See more information at http://dx.doi.org/10.7927/H4CZ353K.
Dataset Summary:
Global Cyclone Hazard Frequency and Distribution is a 2.5 minute grid based on more than 1,600 storm tracks for the period 1 January 1980 through 31 December 2000 for the Atlantic, Pacific, and Indian Oceans that were assembled and modeled at UNEP/GRID-Geneva PreView. Windspeeds around storm tracks were modeled using Holland's model (1997) to assess the grid cells likely to have been exposed to high wind levels. Post-modeling, the cells were divided into deciles, 10 classes consisting of approximately equal number of grid cells. The higher the value of the grid cell, the higher the decile ranking and the greater the frequency of the hazard relative to other cells. This data set is the result of collaboration among the Columbia University Center for Hazards and Risk Research (CHRR), International Bank for Reconstruction and Development/The World Bank, United Nations Environment Programme Global Resource Information Database Geneva (UNEP/GRID-Geneva), and Columbia University Center for International Earth Science Information Network (CIESIN).
Recommended Citation:
Center for Hazards and Risk Research - CHRR - Columbia University, Center for International Earth Science Information Network - CIESIN - Columbia University, International Bank for Reconstruction and Development - The World Bank, and United Nations Environment Programme Global Resource Information Database Geneva - UNEP/GRID-Geneva. 2005. Global Cyclone Hazard Frequency and Distribution. Palisades, NY: NASA Socioeconomic Data and Applications Center (SEDAC). http://dx.doi.org/10.7927/H4CZ353K. Accessed DAY MONTH YEAR.
Single Fused Map Cache: true
Tile Info:
- Height: 256
- Width: 256
- DPI: 96
-
Levels of Detail: 20
-
Level ID: 1
[ Start Tile, End Tile ]
- Resolution: 78271.5169639999
- Scale: 2.95828763795777E8
-
Level ID: 2
[ Start Tile, End Tile ]
- Resolution: 39135.7584820001
- Scale: 1.47914381897889E8
-
Level ID: 3
[ Start Tile, End Tile ]
- Resolution: 19567.8792409999
- Scale: 7.3957190948944E7
-
Level ID: 4
[ Start Tile, End Tile ]
- Resolution: 9783.93962049996
- Scale: 3.6978595474472E7
-
Level ID: 5
[ Start Tile, End Tile ]
- Resolution: 4891.96981024998
- Scale: 1.8489297737236E7
- Format: MIXED
- Compression Quality: 75.0
- LERC Error: NaN
- Origin:
X: -2.0037508342787E7
Y: 2.0037508342787E7
- Spatial Reference:
102100
(3857)
Extent:
XMin: -2.0037330231603973E7
YMin: -7970484.358259941
XMax: 2.003725230796042E7
YMax: 1.9992245275742117E7
Spatial Reference:
102100
(3857)
Initial Extent:
XMin: -2.0037330231603973E7
YMin: -7970484.358259941
XMax: 2.003725230796042E7
YMax: 1.9992245275742117E7
Spatial Reference:
102100
(3857)
Full Extent:
XMin: -2.0037330231603973E7
YMin: -7970484.358259941
XMax: 2.003725230796042E7
YMax: 1.9992245275742117E7
Spatial Reference:
102100
(3857)
Pixel Size X: 4642.022766079508
Pixel Size Y: 4642.022766079508
Band Count: 3
Pixel Type: U8
RasterFunction Infos: {"name":"None","description":"","help":""}
Mensuration Capabilities: Basic
Has Histograms: false
Has Colormap: false
Has Multi Dimensions : false
Rendering Rule:
Min Scale: 2.95828763795777E8
Max Scale: 1155581.108577
Copyright Text: Center for Hazards and Risk Research - CHRR - Columbia University, Center for International Earth Science Information Network - CIESIN - Columbia University, International Bank for Reconstruction and Development - The World Bank, and United Nations Environment Programme Global Resource Information Database Geneva - UNEP/GRID-Geneva.
Service Data Type: esriImageServiceDataTypeRGB
Min Values: N/A
Max Values: N/A
Mean Values: N/A
Standard Deviation Values: N/A
Object ID Field:
Fields:
None
Default Mosaic Method: Center
Allowed Mosaic Methods:
SortField:
SortValue: null
Mosaic Operator: First
Default Compression Quality: 75
Default Resampling Method: Bilinear
Max Record Count: null
Max Image Height: 4100
Max Image Width: 15000
Max Download Image Count: null
Max Mosaic Image Count: null
Allow Raster Function: true
Allow Compute TiePoints: false
Supports Statistics: false
Supports Advanced Queries: false
Use StandardizedQueries: true
Raster Type Infos:
Name: Raster Dataset
Description: Supports all ArcGIS Raster Datasets
Help:
Has Raster Attribute Table: false
Edit Fields Info: null
Ownership Based AccessControl For Rasters: null
Child Resources:
Info
Key Properties
Legend
MultiDimensionalInfo
rasterFunctionInfos
Supported Operations:
Export Image
Identify
Measure
Compute Histograms
Compute Statistics Histograms
Get Samples
Compute Class Statistics