View In:
ArcGIS JavaScript
ArcGIS Online map viewer
Google Earth
ArcMap
ArcGIS Explorer
View Footprint In:
ArcGIS Online map viewer
Service Description: The Physical Habitat Units of the Hudson River Estuary data set is intended to serve as the basis for an ecological assessment of the Hudson River Estuary and the work of the Target Ecosystem Characteristics teams of the Hudson River Comprehensive Restoration Plan and Partners Restoring the Hudson. It could be useful for identifying opportunities for habitat conservation or restoration. The physical habitat units were derived from bathymetry (6 depth zones), slope (3 slope zones), sediment type (3 classes) and sediment environment (3 classes) data.
Map Name: Physical Habitat Units of the Hudson River Estuary by Depth Zone
Legend
All Layers and Tables
Layers:
Description:
Copyright Text: Center for International Earth Science Information Network (CIESIN) of Columbia University, 2017
Spatial Reference:
102100
(3857)
Single Fused Map Cache: true
Tile Info:
- Height: 256
- Width: 256
- DPI: 96
-
Levels of Detail: 20
-
Level ID: 1
[ Start Tile, End Tile ]
- Resolution: 78271.5169639999
- Scale: 2.95828763795777E8
-
Level ID: 2
[ Start Tile, End Tile ]
- Resolution: 39135.7584820001
- Scale: 1.47914381897889E8
-
Level ID: 3
[ Start Tile, End Tile ]
- Resolution: 19567.8792409999
- Scale: 7.3957190948944E7
-
Level ID: 4
[ Start Tile, End Tile ]
- Resolution: 9783.93962049996
- Scale: 3.6978595474472E7
-
Level ID: 5
[ Start Tile, End Tile ]
- Resolution: 4891.96981024998
- Scale: 1.8489297737236E7
- Format: PNG
- Compression Quality: 0.0
- Origin: X: -2.0037508342787E7
Y: 2.0037508342787E7
- Spatial Reference: 102100
(3857)
Initial Extent:
XMin: -8377482.000784606
YMin: 5101579.127280202
XMax: -8061823.126893036
YMax: 5288349.728762384
Spatial Reference: 102100
Full Extent:
XMin: -8240016.721639163
YMin: 5011615.63438563
XMax: -8202560.626645764
YMax: 5274372.360685903
Spatial Reference: 102100
Units: esriMeters
Supported Image Format Types: PNG32,PNG24,PNG,JPG,DIB,TIFF,EMF,PS,PDF,GIF,SVG,SVGZ,BMP
Document Info:
Title:
Author:
Comments: alpha
Subject: alpha
Category:
Keywords: Shoreline,Physical Habitat Unit,Habitat,Hudson River Estuary,The Nature Conservancy,TNC,Ecological Assessment,CIESIN,Columbia University
AntialiasingMode: None
TextAntialiasingMode: Force
Supports Dynamic Layers: false
MaxRecordCount: 1000
MaxImageHeight: 4096
MaxImageWidth: 4096
Supported Query Formats: JSON, AMF, geoJSON
Min Scale: 4622324.434309
Max Scale: 2256.994353
Supports Datum Transformation: true
Child Resources:
Info
Supported Operations:
Export Map
Identify
Find
Return Updates
Generate KML